BEGIN:VCALENDAR
VERSION:2.0
PRODID:-//Tukios.com/
BEGIN:VEVENT
UID:4179e37b-2346-4b56-9084-51aedaa1241d@www.samclarkfuneralhome.com
DTSTAMP:20260424T184047Z
DTSTART:20260502T150000Z
DTEND:20260502T160000Z
SUMMARY:Memorial Service
DESCRIPTION:
URL:https://www.samclarkfuneralhome.com/obituaries/john-hawkins-jr
LOCATION:Cochran Ridge Baptist Church 2083 Cochran Ridge Rd  Hiram GA 
	30141
GEO:33.8684235;-84.8065675
END:VEVENT
END:VCALENDAR