BEGIN:VCALENDAR
VERSION:2.0
PRODID:-//Tukios.com/
BEGIN:VEVENT
UID:dd037715-644b-4558-8f6a-f47d8a217388@www.samclarkfuneralhome.com
DTSTAMP:20260423T014937Z
DTSTART:20260425T180000Z
DTEND:20260425T190000Z
SUMMARY:Funeral Service
DESCRIPTION:
URL:https://www.samclarkfuneralhome.com/obituaries/howard-garland
LOCATION:Sam Clark Chapel 4373 Atlanta Hwy  Hiram GA 30141
GEO:33.9035595;-84.7709632
END:VEVENT
END:VCALENDAR