BEGIN:VCALENDAR
VERSION:2.0
PRODID:-//Tukios.com/
BEGIN:VEVENT
UID:c8e86d73-e07d-4bbf-b5ae-3244c5f85f44@www.samclarkfuneralhome.com
DTSTAMP:20260424T193623Z
DTSTART:20260426T220000Z
DTEND:20260427T000000Z
SUMMARY:Visitation
DESCRIPTION:
URL:https://www.samclarkfuneralhome.com/obituaries/dianne-foster
LOCATION:Clark Funeral Home 4373 Atlanta Hwy  Hiram GA 30141
GEO:33.9035595;-84.7709632
END:VEVENT
END:VCALENDAR