BEGIN:VCALENDAR
VERSION:2.0
PRODID:-//Tukios.com/
BEGIN:VEVENT
UID:a0ba2019-8d28-40b7-b7bc-cdde1348094e@www.samclarkfuneralhome.com
DTSTAMP:20260424T193958Z
DTSTART:20260427T210000Z
DTEND:20260428T000000Z
SUMMARY:Visitation
DESCRIPTION:
URL:https://www.samclarkfuneralhome.com/obituaries/dianne-foster
LOCATION:Clark Funeral Home 4373 Atlanta Hwy  Hiram GA 30141
GEO:33.9035595;-84.7709632
END:VEVENT
END:VCALENDAR