BEGIN:VCALENDAR
VERSION:2.0
PRODID:-//Tukios.com/
BEGIN:VEVENT
UID:f451ca22-c130-43cb-ab74-6f954ac1c563@www.samclarkfuneralhome.com
DTSTAMP:20260421T063458Z
DTSTART:20260426T170000Z
DTEND:20260426T180000Z
SUMMARY:Visitation
DESCRIPTION:
URL:https://www.samclarkfuneralhome.com/obituaries/carolyn-lynn-spinks
LOCATION:Clark Funeral Home 4373 Atlanta Hwy  Hiram GA 30141
GEO:33.9035595;-84.7709632
END:VEVENT
END:VCALENDAR