BEGIN:VCALENDAR
VERSION:2.0
PRODID:-//Tukios.com/
BEGIN:VEVENT
UID:d7bf19fe-82c4-4797-a50e-be46f4ab1d70@www.samclarkfuneralhome.com
DTSTAMP:20260421T063152Z
DTSTART:20260426T180000Z
DTEND:20260426T190000Z
SUMMARY:Memorial Service
DESCRIPTION:
URL:https://www.samclarkfuneralhome.com/obituaries/carolyn-lynn-spinks
LOCATION:Sam Clark Chapel 4373 Atlanta Hwy  Hiram GA 30141
GEO:33.9035595;-84.7709632
END:VEVENT
END:VCALENDAR