BEGIN:VCALENDAR
VERSION:2.0
PRODID:-//Tukios.com/
BEGIN:VEVENT
UID:465338dd-920f-42ea-91b4-9c047fb6e450@www.samclarkfuneralhome.com
DTSTAMP:20260419T201852Z
DTSTART:20260421T140000Z
DTEND:20260421T160000Z
SUMMARY:Visitation
DESCRIPTION:
URL:https://www.samclarkfuneralhome.com/obituaries/carl-jones
LOCATION: 4373 Atlanta Hwy  Hiram GA 30141
GEO:33.9035595;-84.7709632
END:VEVENT
END:VCALENDAR