BEGIN:VCALENDAR
VERSION:2.0
PRODID:-//Tukios.com/
BEGIN:VEVENT
UID:30b8da60-64de-4522-a7e5-25fe4f57d47f@www.samclarkfuneralhome.com
DTSTAMP:20260419T201718Z
DTSTART:20260421T160000Z
DTEND:20260421T170000Z
SUMMARY:Funeral Service
DESCRIPTION:
URL:https://www.samclarkfuneralhome.com/obituaries/carl-jones
LOCATION: 4373 Atlanta Highway  Hiram GA 30141
GEO:33.9035595;-84.7709632
END:VEVENT
END:VCALENDAR