BEGIN:VCALENDAR
VERSION:2.0
PRODID:-//Tukios.com/
BEGIN:VEVENT
UID:09127440-f1d3-47f4-a95f-193477209827@www.samclarkfuneralhome.com
DTSTAMP:20260420T020919Z
DTSTART:20260422T170000Z
DTEND:20260422T180000Z
SUMMARY:Funeral Service
DESCRIPTION:
URL:https://www.samclarkfuneralhome.com/obituaries/betty-honea
LOCATION:Clark Funeral Home 4373 Atlanta Hwy  Hiram GA 30141
GEO:33.9035595;-84.7709632
END:VEVENT
END:VCALENDAR