BEGIN:VCALENDAR
VERSION:2.0
PRODID:-//Tukios.com/
BEGIN:VEVENT
UID:58ba2166-92ae-4557-885f-ebed40ceab94@www.samclarkfuneralhome.com
DTSTAMP:20260420T021206Z
DTSTART:20260422T160000Z
DTEND:20260422T170000Z
SUMMARY:Visitation
DESCRIPTION:
URL:https://www.samclarkfuneralhome.com/obituaries/betty-honea
LOCATION:Clark Funeral Home 4373 Atlanta Hwy  Hiram GA 30141
GEO:33.9035595;-84.7709632
END:VEVENT
END:VCALENDAR