BEGIN:VCALENDAR
VERSION:2.0
PRODID:-//Tukios.com/
BEGIN:VEVENT
UID:a26c389c-36a8-43dd-8d12-7fc51b1b8790@www.samclarkfuneralhome.com
DTSTAMP:20260420T021657Z
DTSTART:20260422
SUMMARY:Interment
DESCRIPTION:
URL:https://www.samclarkfuneralhome.com/obituaries/betty-honea
LOCATION:Mt Harmony Memorial Gardens 581 Veterans Memorial Hwy SE  
	Mableton GA 30126
GEO:33.8117052;-84.5357897
END:VEVENT
END:VCALENDAR